BEGIN:VCALENDAR
VERSION:2.0
PRODID:-//KRIDA KENDRAM - ECPv6.15.20//NONSGML v1.0//EN
CALSCALE:GREGORIAN
METHOD:PUBLISH
X-WR-CALNAME:KRIDA KENDRAM
X-ORIGINAL-URL:https://kridakendram.davchennai.org
X-WR-CALDESC:Events for KRIDA KENDRAM
REFRESH-INTERVAL;VALUE=DURATION:PT1H
X-Robots-Tag:noindex
X-PUBLISHED-TTL:PT1H
BEGIN:VTIMEZONE
TZID:UTC
BEGIN:STANDARD
TZOFFSETFROM:+0000
TZOFFSETTO:+0000
TZNAME:UTC
DTSTART:20250101T000000
END:STANDARD
END:VTIMEZONE
BEGIN:VEVENT
DTSTART;VALUE=DATE:20260206
DTEND;VALUE=DATE:20260208
DTSTAMP:20260422T010148
CREATED:20240411T162036Z
LAST-MODIFIED:20251110T083829Z
UID:1362-1770336000-1770508799@kridakendram.davchennai.org
SUMMARY:Sardar Vallabhbhai Patel Inter D.A.V. Football Tournament  (Classes III to VIII)
DESCRIPTION:
URL:https://kridakendram.davchennai.org/event/sardar-vallabhbhai-patel-inter-d-a-v-football-tournament-classes-iii-to-viii/
LOCATION:<b>Host: </b> D.A.V. Boys Senior Secondary School\, Mogappair
ATTACH;FMTTYPE=image/png:https://kridakendram.davchennai.org/wp-content/uploads/2024/04/image-5.png
END:VEVENT
END:VCALENDAR