BEGIN:VCALENDAR
VERSION:2.0
PRODID:-//KRIDA KENDRAM - ECPv6.15.20//NONSGML v1.0//EN
CALSCALE:GREGORIAN
METHOD:PUBLISH
X-WR-CALNAME:KRIDA KENDRAM
X-ORIGINAL-URL:https://kridakendram.davchennai.org
X-WR-CALDESC:Events for KRIDA KENDRAM
REFRESH-INTERVAL;VALUE=DURATION:PT1H
X-Robots-Tag:noindex
X-PUBLISHED-TTL:PT1H
BEGIN:VTIMEZONE
TZID:UTC
BEGIN:STANDARD
TZOFFSETFROM:+0000
TZOFFSETTO:+0000
TZNAME:UTC
DTSTART:20250101T000000
END:STANDARD
END:VTIMEZONE
BEGIN:VEVENT
DTSTART;VALUE=DATE:20260214
DTEND;VALUE=DATE:20260215
DTSTAMP:20260421T190733
CREATED:20240411T161625Z
LAST-MODIFIED:20251110T083849Z
UID:1356-1771027200-1771113599@kridakendram.davchennai.org
SUMMARY:Chanakya State Level Chess Tournament
DESCRIPTION:
URL:https://kridakendram.davchennai.org/event/chanakya-state-level-chess-tournament/
LOCATION:<b>Host: </b> D.A.V. Boys Senior Secondary School\, Mogappair
ATTACH;FMTTYPE=image/png:https://kridakendram.davchennai.org/wp-content/uploads/2024/04/Untitled-design-41.png
END:VEVENT
END:VCALENDAR