BEGIN:VCALENDAR
VERSION:2.0
PRODID:-//KRIDA KENDRAM - ECPv6.15.20//NONSGML v1.0//EN
CALSCALE:GREGORIAN
METHOD:PUBLISH
X-ORIGINAL-URL:https://kridakendram.davchennai.org
X-WR-CALDESC:Events for KRIDA KENDRAM
REFRESH-INTERVAL;VALUE=DURATION:PT1H
X-Robots-Tag:noindex
X-PUBLISHED-TTL:PT1H
BEGIN:VTIMEZONE
TZID:UTC
BEGIN:STANDARD
TZOFFSETFROM:+0000
TZOFFSETTO:+0000
TZNAME:UTC
DTSTART:20250101T000000
END:STANDARD
END:VTIMEZONE
BEGIN:VEVENT
DTSTART;VALUE=DATE:20260404
DTEND;VALUE=DATE:20260405
DTSTAMP:20260421T124532
CREATED:20240411T162332Z
LAST-MODIFIED:20250901T090242Z
UID:1366-1775260800-1775347199@kridakendram.davchennai.org
SUMMARY:Mahakavi Bharathiyar Inter D.A.V. Traditional Games
DESCRIPTION:
URL:https://kridakendram.davchennai.org/event/mahakavi-bharathiyar-inter-d-a-v-traditional-games/
LOCATION:<b>Host: </b> D.A.V.  Secondary School\, Mogappair
END:VEVENT
END:VCALENDAR