BEGIN:VCALENDAR
VERSION:2.0
PRODID:-//KRIDA KENDRAM - ECPv6.15.20//NONSGML v1.0//EN
CALSCALE:GREGORIAN
METHOD:PUBLISH
X-ORIGINAL-URL:https://kridakendram.davchennai.org
X-WR-CALDESC:Events for KRIDA KENDRAM
REFRESH-INTERVAL;VALUE=DURATION:PT1H
X-Robots-Tag:noindex
X-PUBLISHED-TTL:PT1H
BEGIN:VTIMEZONE
TZID:UTC
BEGIN:STANDARD
TZOFFSETFROM:+0000
TZOFFSETTO:+0000
TZNAME:UTC
DTSTART:20250101T000000
END:STANDARD
END:VTIMEZONE
BEGIN:VEVENT
DTSTART;VALUE=DATE:20260110
DTEND;VALUE=DATE:20260111
DTSTAMP:20260422T072405
CREATED:20240411T161941Z
LAST-MODIFIED:20251110T083728Z
UID:1360-1768003200-1768089599@kridakendram.davchennai.org
SUMMARY:Vijay Utkarsh Dinam-Sports Achievers Day
DESCRIPTION:
URL:https://kridakendram.davchennai.org/event/vijay-utkarsh-dinam-sports-achievers-day/
LOCATION:<b>Host: </b> D.A.V. Girls Gopalapuram
ATTACH;FMTTYPE=image/png:https://kridakendram.davchennai.org/wp-content/uploads/2024/04/Untitled-design-43.png
END:VEVENT
BEGIN:VEVENT
DTSTART;VALUE=DATE:20260123
DTEND;VALUE=DATE:20260124
DTSTAMP:20260422T072405
CREATED:20240509T060116Z
LAST-MODIFIED:20250830T111213Z
UID:1395-1769126400-1769212799@kridakendram.davchennai.org
SUMMARY:Krida Kendram Premier League (KPL) Athletics - Boys & Girls
DESCRIPTION:
URL:https://kridakendram.davchennai.org/event/krida-kendram-premier-league-kpl-athletics-boys-girls/
LOCATION:<b>Host: </b> D.A.V. Boys Senior Secondary School\, Mogappair & D.A.V. Secondary Mogappair
ATTACH;FMTTYPE=image/png:https://kridakendram.davchennai.org/wp-content/uploads/2024/05/Untitled-design-53.png
END:VEVENT
BEGIN:VEVENT
DTSTART;VALUE=DATE:20260131
DTEND;VALUE=DATE:20260201
DTSTAMP:20260422T072405
CREATED:20240411T161903Z
LAST-MODIFIED:20251110T083750Z
UID:1358-1769817600-1769903999@kridakendram.davchennai.org
SUMMARY:Veera Mangai Velu Nachiyar  Inter D.A.V. Silambam Tournament
DESCRIPTION:
URL:https://kridakendram.davchennai.org/event/veera-mangai-velu-nachiyar-inter-d-a-v-silambam-tournament/
LOCATION:<b>Host: </b> D.A.V. Matriculation Higher Secondary School\, Gill Nagar
ATTACH;FMTTYPE=image/png:https://kridakendram.davchennai.org/wp-content/uploads/2024/04/Untitled-design-39.png
END:VEVENT
END:VCALENDAR